BEGIN:VCALENDAR
VERSION:2.0
PRODID:-//Squarespace Inc/Squarespace 6//v6//EN
BEGIN:VEVENT
UID:5fc714bf3d56556d1435ab4b@squarespace.com
DTSTAMP:20201202T041615Z
DTSTART:20210509T043000Z
DTEND:20210509T073000Z
SUMMARY:Kidman + Barton + Bowls + Croquet + Petanque + Tennis
END:VEVENT
END:VCALENDAR
