BEGIN:VCALENDAR
VERSION:2.0
PRODID:-//Squarespace Inc/Squarespace 6//v6//EN
BEGIN:VEVENT
UID:60235b8e5421ed6b202ac9a6@squarespace.com
DTSTAMP:20210210T040628Z
DTSTART:20210412T233000Z
DTEND:20210413T073000Z
SUMMARY:Kidman Room 
END:VEVENT
END:VCALENDAR
