BEGIN:VCALENDAR
VERSION:2.0
PRODID:-//Squarespace Inc/Squarespace 6//v6//EN
BEGIN:VEVENT
UID:5fc70b7a9dfc2a404515e4fd@squarespace.com
DTSTAMP:20201202T033631Z
DTSTART:20210327T223000Z
DTEND:20210328T063000Z
SUMMARY:Kidman + Petanque 
END:VEVENT
END:VCALENDAR
