BEGIN:VCALENDAR
VERSION:2.0
PRODID:-//Squarespace Inc/Squarespace 6//v6//EN
BEGIN:VEVENT
UID:5fc72b302ac13f1ee9b5ccc8@squarespace.com
DTSTAMP:20201202T055113Z
DTSTART:20210327T033000Z
DTEND:20210327T073000Z
SUMMARY:Kidman + Bowls 
END:VEVENT
END:VCALENDAR
