BEGIN:VCALENDAR
VERSION:2.0
PRODID:-//Squarespace Inc/Squarespace 6//v6//EN
BEGIN:VEVENT
UID:5ffa94bfc782553020cff2f9@squarespace.com
DTSTAMP:20210110T054916Z
DTSTART:20210206T063000Z
DTEND:20210206T123000Z
SUMMARY:Kidman + Bowls 
END:VEVENT
END:VCALENDAR
