BEGIN:VCALENDAR
VERSION:2.0
PRODID:-//Squarespace Inc/Squarespace 6//v6//EN
BEGIN:VEVENT
UID:600d10abe0a5aa5e48631acb@squarespace.com
DTSTAMP:20210124T061651Z
DTSTART:20210204T213000Z
DTEND:20210204T233000Z
SUMMARY:Unley Council Buddies Breakfast
END:VEVENT
END:VCALENDAR
