BEGIN:VCALENDAR
VERSION:2.0
PRODID:-//Squarespace Inc/Squarespace 6//v6//EN
BEGIN:VEVENT
UID:5fc70b4756cd4459b3aeee8c@squarespace.com
DTSTAMP:20201202T033514Z
DTSTART:20210205T063000Z
DTEND:20210205T103000Z
SUMMARY:Kidman + Bowls 
END:VEVENT
END:VCALENDAR
