BEGIN:VCALENDAR
VERSION:2.0
PRODID:-//Squarespace Inc/Squarespace 6//v6//EN
BEGIN:VEVENT
UID:60235c8c726d0e2b488db2af@squarespace.com
DTSTAMP:20210210T041018Z
DTSTART:20210225T213000Z
DTEND:20210225T233000Z
SUMMARY:Kidman Room 
END:VEVENT
END:VCALENDAR
