BEGIN:VCALENDAR
VERSION:2.0
PRODID:-//Squarespace Inc/Squarespace 6//v6//EN
BEGIN:VEVENT
UID:60235c6953106f6befa4492c@squarespace.com
DTSTAMP:20210210T040943Z
DTSTART:20210218T213000Z
DTEND:20210218T233000Z
SUMMARY:Kidman Room 
END:VEVENT
END:VCALENDAR
