BEGIN:VCALENDAR
VERSION:2.0
PRODID:-//Squarespace Inc/Squarespace 6//v6//EN
BEGIN:VEVENT
UID:60235b29b3a20c162f1bca96@squarespace.com
DTSTAMP:20210210T040426Z
DTSTART:20210219T013000Z
DTEND:20210219T023000Z
SUMMARY:Kidman + Bowls 
END:VEVENT
END:VCALENDAR
