BEGIN:VCALENDAR
VERSION:2.0
PRODID:-//Squarespace Inc/Squarespace 6//v6//EN
BEGIN:VEVENT
UID:600d108ad9c8e22e3fbb0049@squarespace.com
DTSTAMP:20210124T061605Z
DTSTART:20210128T213000Z
DTEND:20210128T233000Z
SUMMARY:Unley Council Buddies Breakfast
END:VEVENT
END:VCALENDAR
