BEGIN:VCALENDAR
VERSION:2.0
PRODID:-//Squarespace Inc/Squarespace 6//v6//EN
BEGIN:VEVENT
UID:5fc350f43c6ccf69f3c8b4eb@squarespace.com
DTSTAMP:20201202T033315Z
DTSTART:20201220T073000Z
DTEND:20201220T113000Z
SUMMARY:Kidman Room
END:VEVENT
END:VCALENDAR
