BEGIN:VCALENDAR
VERSION:2.0
PRODID:-//Squarespace Inc/Squarespace 6//v6//EN
BEGIN:VEVENT
UID:5fbf334d3c02f22b9d013574@squarespace.com
DTSTAMP:20201202T033225Z
DTSTART:20201223T023000Z
DTEND:20201223T063000Z
SUMMARY:Kidman + Bowls + Croquet + Tennis
END:VEVENT
END:VCALENDAR
