BEGIN:VCALENDAR
VERSION:2.0
PRODID:-//Squarespace Inc/Squarespace 6//v6//EN
BEGIN:VEVENT
UID:5fbf33053f75b16643c9228d@squarespace.com
DTSTAMP:20201202T033120Z
DTSTART:20201219T073000Z
DTEND:20201219T113000Z
SUMMARY:Kidman + Bowls 
END:VEVENT
END:VCALENDAR
