BEGIN:VCALENDAR
VERSION:2.0
PRODID:-//Squarespace Inc/Squarespace 6//v6//EN
BEGIN:VEVENT
UID:5fbf32d19b1ed03538cefb6d@squarespace.com
DTSTAMP:20201202T033151Z
DTSTART:20201218T073000Z
DTEND:20201218T113000Z
SUMMARY:Kidman + Bowls 
END:VEVENT
END:VCALENDAR
