BEGIN:VCALENDAR
VERSION:2.0
PRODID:-//Squarespace Inc/Squarespace 6//v6//EN
BEGIN:VEVENT
UID:5fbf3290a97599144eeb4cb7@squarespace.com
DTSTAMP:20201202T033014Z
DTSTART:20201213T003000Z
DTEND:20201213T053000Z
SUMMARY:Kidman Room 
END:VEVENT
END:VCALENDAR
