BEGIN:VCALENDAR
VERSION:2.0
PRODID:-//Squarespace Inc/Squarespace 6//v6//EN
BEGIN:VEVENT
UID:5fbf32431972c46e3c92c47f@squarespace.com
DTSTAMP:20201202T032939Z
DTSTART:20201212T053000Z
DTEND:20201212T103000Z
SUMMARY:Kidman + Bowls
END:VEVENT
END:VCALENDAR
