BEGIN:VCALENDAR
VERSION:2.0
PRODID:-//Squarespace Inc/Squarespace 6//v6//EN
BEGIN:VEVENT
UID:5fc05d1908845d09249fb828@squarespace.com
DTSTAMP:20201202T032814Z
DTSTART:20201210T213000Z
DTEND:20201210T233000Z
SUMMARY:Kidman Room 
END:VEVENT
END:VCALENDAR
