BEGIN:VCALENDAR
VERSION:2.0
PRODID:-//Squarespace Inc/Squarespace 6//v6//EN
BEGIN:VEVENT
UID:5fbf30d74f98375720d40635@squarespace.com
DTSTAMP:20201126T045514Z
DTSTART:20201128T220000Z
DTEND:20201129T040000Z
SUMMARY:Kidman + Bowls 
END:VEVENT
END:VCALENDAR
